BEGIN:VCALENDAR
VERSION:2.0
PRODID:-//Original Concerts - ECPv6.8.2//NONSGML v1.0//EN
CALSCALE:GREGORIAN
METHOD:PUBLISH
X-WR-CALNAME:Original Concerts
X-ORIGINAL-URL:https://originalconcerts.es
X-WR-CALDESC:Eventos para Original Concerts
REFRESH-INTERVAL;VALUE=DURATION:PT1H
X-Robots-Tag:noindex
X-PUBLISHED-TTL:PT1H
BEGIN:VTIMEZONE
TZID:Europe/Madrid
BEGIN:DAYLIGHT
TZOFFSETFROM:+0100
TZOFFSETTO:+0200
TZNAME:CEST
DTSTART:20260329T010000
END:DAYLIGHT
BEGIN:STANDARD
TZOFFSETFROM:+0200
TZOFFSETTO:+0100
TZNAME:CET
DTSTART:20261025T010000
END:STANDARD
END:VTIMEZONE
BEGIN:VEVENT
DTSTART;TZID=Europe/Madrid:20260206T203000
DTEND;TZID=Europe/Madrid:20260206T203000
DTSTAMP:20260421T125137
CREATED:20251008T094156Z
LAST-MODIFIED:20251008T094156Z
UID:51172-1770409800-1770409800@originalconcerts.es
SUMMARY:Edu Soto - Vilafranca del Penedès
DESCRIPTION:Edu Soto llega al Teatre Casal de Vilafranca del Penedès (Barcelona) con su espectáculo «Más vale solo que ciento volando REVOLUTION» \nCOMPRAR ENTRADAS
URL:https://originalconcerts.es/evento/edu-soto-vilafranca-del-penedes
LOCATION:Teatre Casal\, Rambla de Nostra Senyora 35\, Vilafranca del Penedès\, Barcelona\, 08720\, Spain
CATEGORIES:Edu Soto
ATTACH;FMTTYPE=image/jpeg:https://originalconcerts.es/wp-content/uploads/2025/01/1080X1080.jpg
END:VEVENT
END:VCALENDAR