BEGIN:VCALENDAR
VERSION:2.0
PRODID:-//Original Concerts - ECPv6.8.2//NONSGML v1.0//EN
CALSCALE:GREGORIAN
METHOD:PUBLISH
X-WR-CALNAME:Original Concerts
X-ORIGINAL-URL:https://originalconcerts.es
X-WR-CALDESC:Eventos para Original Concerts
REFRESH-INTERVAL;VALUE=DURATION:PT1H
X-Robots-Tag:noindex
X-PUBLISHED-TTL:PT1H
BEGIN:VTIMEZONE
TZID:Europe/Madrid
BEGIN:DAYLIGHT
TZOFFSETFROM:+0100
TZOFFSETTO:+0200
TZNAME:CEST
DTSTART:20260329T010000
END:DAYLIGHT
BEGIN:STANDARD
TZOFFSETFROM:+0200
TZOFFSETTO:+0100
TZNAME:CET
DTSTART:20261025T010000
END:STANDARD
END:VTIMEZONE
BEGIN:VEVENT
DTSTART;TZID=Europe/Madrid:20260208T190000
DTEND;TZID=Europe/Madrid:20260208T190000
DTSTAMP:20260419T191603
CREATED:20251212T090933Z
LAST-MODIFIED:20251223T105047Z
UID:51482-1770577200-1770577200@originalconcerts.es
SUMMARY:Edu Soto - Bigues I Riells
DESCRIPTION:Edu Soto llega al Teatre Auditori Polivalent de Bigues I Riells con su espectáculo «Más vale solo que ciento volando REVOLUTION» \nCOMPRAR ENTRADAS
URL:https://originalconcerts.es/evento/edu-soto-bigues-i-riells
LOCATION:Teatre Auditori Polivalent\, Carrer Anna Mogas 130\, Bigues I Riells\, Barcelona\, 08415
CATEGORIES:Edu Soto
ATTACH;FMTTYPE=image/jpeg:https://originalconcerts.es/wp-content/uploads/2025/01/1080X1080.jpg
END:VEVENT
END:VCALENDAR