BEGIN:VCALENDAR
VERSION:2.0
PRODID:-//Original Concerts - ECPv6.8.2//NONSGML v1.0//EN
CALSCALE:GREGORIAN
METHOD:PUBLISH
X-WR-CALNAME:Original Concerts
X-ORIGINAL-URL:https://originalconcerts.es
X-WR-CALDESC:Eventos para Original Concerts
REFRESH-INTERVAL;VALUE=DURATION:PT1H
X-Robots-Tag:noindex
X-PUBLISHED-TTL:PT1H
BEGIN:VTIMEZONE
TZID:Europe/Madrid
BEGIN:DAYLIGHT
TZOFFSETFROM:+0100
TZOFFSETTO:+0200
TZNAME:CEST
DTSTART:20260329T010000
END:DAYLIGHT
BEGIN:STANDARD
TZOFFSETFROM:+0200
TZOFFSETTO:+0100
TZNAME:CET
DTSTART:20261025T010000
END:STANDARD
END:VTIMEZONE
BEGIN:VEVENT
DTSTART;TZID=Europe/Madrid:20260221T180000
DTEND;TZID=Europe/Madrid:20260221T180000
DTSTAMP:20260421T141252
CREATED:20260107T112954Z
LAST-MODIFIED:20260107T112954Z
UID:51539-1771696800-1771696800@originalconcerts.es
SUMMARY:Ara Malikian - Alicante
DESCRIPTION:Ara Malikian llega al ADDA Auditorio de la Diputación de Alicante con su gira «Intruso». \nCOMPRAR ENTRADAS
URL:https://originalconcerts.es/evento/ara-malikian-alicante
LOCATION:ADDA Auditorio de la Diputación de Alicante\, Av. de Jijona\, 5\, Alicante\, Alicante\, 03012
CATEGORIES:Ara Malikian
ATTACH;FMTTYPE=image/jpeg:https://originalconcerts.es/wp-content/uploads/2024/09/Ara-Malikian-Intruso.jpg
END:VEVENT
END:VCALENDAR