BEGIN:VCALENDAR
VERSION:2.0
PRODID:-//Original Concerts - ECPv6.8.2//NONSGML v1.0//EN
CALSCALE:GREGORIAN
METHOD:PUBLISH
X-WR-CALNAME:Original Concerts
X-ORIGINAL-URL:https://originalconcerts.es
X-WR-CALDESC:Eventos para Original Concerts
REFRESH-INTERVAL;VALUE=DURATION:PT1H
X-Robots-Tag:noindex
X-PUBLISHED-TTL:PT1H
BEGIN:VTIMEZONE
TZID:Europe/Madrid
BEGIN:DAYLIGHT
TZOFFSETFROM:+0100
TZOFFSETTO:+0200
TZNAME:CEST
DTSTART:20260329T010000
END:DAYLIGHT
BEGIN:STANDARD
TZOFFSETFROM:+0200
TZOFFSETTO:+0100
TZNAME:CET
DTSTART:20261025T010000
END:STANDARD
END:VTIMEZONE
BEGIN:VEVENT
DTSTART;TZID=Europe/Madrid:20260502T210000
DTEND;TZID=Europe/Madrid:20260502T210000
DTSTAMP:20260421T142405
CREATED:20251126T113443Z
LAST-MODIFIED:20251126T113443Z
UID:51447-1777755600-1777755600@originalconcerts.es
SUMMARY:ABBA - Valencia
DESCRIPTION:ABBA The New Experience llega al Auditorio La Rambleta de Valencia. Ahora\, ABBA THE NEW EXPERIENCE presenta su espectáculo más revolucionario: REVOLUTION. \nCOMPRAR ENTRADAS
URL:https://originalconcerts.es/evento/abba-valencia-2
LOCATION:La Rambeta\, Bulevar Sur esquina Calle Pío IX\, s/n\, Jesús\, Valencia\, Valencia\, 46017\, Spain
CATEGORIES:ABBA
ATTACH;FMTTYPE=image/jpeg:https://originalconcerts.es/wp-content/uploads/2025/06/ABBA-Revolution-Tour.jpg
END:VEVENT
END:VCALENDAR